BEGIN:VCALENDAR
VERSION:2.0
PRODID:-//The Vienna Symposium - ECPv6.15.20//NONSGML v1.0//EN
CALSCALE:GREGORIAN
METHOD:PUBLISH
X-WR-CALNAME:The Vienna Symposium
X-ORIGINAL-URL:https://vienna-symposium.com
X-WR-CALDESC:Events for The Vienna Symposium
REFRESH-INTERVAL;VALUE=DURATION:PT1H
X-Robots-Tag:noindex
X-PUBLISHED-TTL:PT1H
BEGIN:VTIMEZONE
TZID:Europe/Vienna
BEGIN:DAYLIGHT
TZOFFSETFROM:+0100
TZOFFSETTO:+0200
TZNAME:CEST
DTSTART:20240331T010000
END:DAYLIGHT
BEGIN:STANDARD
TZOFFSETFROM:+0200
TZOFFSETTO:+0100
TZNAME:CET
DTSTART:20241027T010000
END:STANDARD
BEGIN:DAYLIGHT
TZOFFSETFROM:+0100
TZOFFSETTO:+0200
TZNAME:CEST
DTSTART:20250330T010000
END:DAYLIGHT
BEGIN:STANDARD
TZOFFSETFROM:+0200
TZOFFSETTO:+0100
TZNAME:CET
DTSTART:20251026T010000
END:STANDARD
BEGIN:DAYLIGHT
TZOFFSETFROM:+0100
TZOFFSETTO:+0200
TZNAME:CEST
DTSTART:20260329T010000
END:DAYLIGHT
BEGIN:STANDARD
TZOFFSETFROM:+0200
TZOFFSETTO:+0100
TZNAME:CET
DTSTART:20261025T010000
END:STANDARD
END:VTIMEZONE
BEGIN:VEVENT
DTSTART;TZID=Europe/Vienna:20250801T170000
DTEND;TZID=Europe/Vienna:20250801T230000
DTSTAMP:20260425T221952
CREATED:20260116T143313Z
LAST-MODIFIED:20260118T095107Z
UID:4758-1754067600-1754089200@vienna-symposium.com
SUMMARY:Melian Dialogue and Realism in International Relations
DESCRIPTION:
URL:https://vienna-symposium.com/event/melian-dialogue-and-realism-in-international-relations/
LOCATION:Bierosophie\, Gablenzgasse 60A\, Vienna\, Vienna\, 1160\, Austria
END:VEVENT
BEGIN:VEVENT
DTSTART;TZID=Europe/Vienna:20250818T170000
DTEND;TZID=Europe/Vienna:20250818T230000
DTSTAMP:20260425T221952
CREATED:20260116T143159Z
LAST-MODIFIED:20260118T094454Z
UID:4755-1755536400-1755558000@vienna-symposium.com
SUMMARY:Hiero
DESCRIPTION:Hiero by Xenophon. Seminar led by Chris LaRoche
URL:https://vienna-symposium.com/event/hiero/
LOCATION:Santo Spirito\, Kumpfgasse 7\, Vienna\, Vienna\, 1010\, Austria
END:VEVENT
END:VCALENDAR