BEGIN:VCALENDAR
VERSION:2.0
PRODID:-//The Vienna Symposium - ECPv6.15.20//NONSGML v1.0//EN
CALSCALE:GREGORIAN
METHOD:PUBLISH
X-WR-CALNAME:The Vienna Symposium
X-ORIGINAL-URL:https://vienna-symposium.com
X-WR-CALDESC:Events for The Vienna Symposium
REFRESH-INTERVAL;VALUE=DURATION:PT1H
X-Robots-Tag:noindex
X-PUBLISHED-TTL:PT1H
BEGIN:VTIMEZONE
TZID:Europe/Vienna
BEGIN:DAYLIGHT
TZOFFSETFROM:+0100
TZOFFSETTO:+0200
TZNAME:CEST
DTSTART:20250330T010000
END:DAYLIGHT
BEGIN:STANDARD
TZOFFSETFROM:+0200
TZOFFSETTO:+0100
TZNAME:CET
DTSTART:20251026T010000
END:STANDARD
BEGIN:DAYLIGHT
TZOFFSETFROM:+0100
TZOFFSETTO:+0200
TZNAME:CEST
DTSTART:20260329T010000
END:DAYLIGHT
BEGIN:STANDARD
TZOFFSETFROM:+0200
TZOFFSETTO:+0100
TZNAME:CET
DTSTART:20261025T010000
END:STANDARD
BEGIN:DAYLIGHT
TZOFFSETFROM:+0100
TZOFFSETTO:+0200
TZNAME:CEST
DTSTART:20270328T010000
END:DAYLIGHT
BEGIN:STANDARD
TZOFFSETFROM:+0200
TZOFFSETTO:+0100
TZNAME:CET
DTSTART:20271031T010000
END:STANDARD
END:VTIMEZONE
BEGIN:VEVENT
DTSTART;TZID=Europe/Vienna:20260221T170000
DTEND;TZID=Europe/Vienna:20260221T220000
DTSTAMP:20260425T134052
CREATED:20260116T150001Z
LAST-MODIFIED:20260222T213640Z
UID:4788-1771693200-1771711200@vienna-symposium.com
SUMMARY:The Breakdown of Nations by Leopold Kohr
DESCRIPTION:
URL:https://vienna-symposium.com/event/the-breakdown-of-nations-by-leopold-kohr/
LOCATION:Scott’s apartment\, Pellmanngasse 15/1\, Vienna\, Vienna\, 1230\, Austria
END:VEVENT
END:VCALENDAR